BEGIN:VCALENDAR
VERSION:2.0
PRODID:-//ChamberMaster//Event Calendar 2.0//EN
METHOD:PUBLISH
X-PUBLISHED-TTL:P3D
REFRESH-INTERVAL:P3D
CALSCALE:GREGORIAN
BEGIN:VEVENT
DTSTART:20220507T160000Z
DTEND:20220507T170000Z
X-MICROSOFT-CDO-ALLDAYEVENT:FALSE
SUMMARY:The Project Inspire Cooperative & Designs by La Doris Grand Opening
DESCRIPTION:Join us to learn more about Project Inspire and to celebrate the organization's new location in downtown Pueblo!
X-ALT-DESC;FMTTYPE=text/html:Join us to learn more about Project Inspire and to celebrate the organization&#39\;s new location in downtown Pueblo!
LOCATION:The Project Inspire Cooperative 129 S. Union Avenue Pueblo\, CO 81003
UID:e.3560.541
SEQUENCE:3
DTSTAMP:20260419T121841Z
URL:https://business.pueblolatinochamber.com/events/details/the-project-inspire-cooperative-designs-by-la-doris-grand-opening-541
END:VEVENT

END:VCALENDAR
