BEGIN:VCALENDAR
VERSION:2.0
PRODID:-//ChamberMaster//Event Calendar 2.0//EN
METHOD:PUBLISH
X-PUBLISHED-TTL:P3D
REFRESH-INTERVAL:P3D
CALSCALE:GREGORIAN
BEGIN:VEVENT
DTSTART:20210912T003000Z
DTEND:20210912T023000Z
X-MICROSOFT-CDO-ALLDAYEVENT:FALSE
SUMMARY:The Martini Shot
DESCRIPTION:Come on down for a special performance from The Martini Shot for our entertainment season finale!\n\nSponsored by Pueblo Toyota
X-ALT-DESC;FMTTYPE=text/html:<p style="box-sizing: border-box\; margin: 0px 0px 20px\; color: rgb(97\, 97\, 97)\; font-size: 14px\; line-height: 1.8\; font-family: Montserrat\, sans-serif\; background-color: rgb(255\, 255\, 255)\;">Come on down for a special performance from The Martini Shot for our entertainment season finale!</p>\n\n<p style="box-sizing: border-box\; margin: 0px 0px 20px\; color: rgb(97\, 97\, 97)\; font-size: 14px\; line-height: 1.8\; font-family: Montserrat\, sans-serif\; background-color: rgb(255\, 255\, 255)\;">Sponsored by Pueblo Toyota</p>\n
LOCATION:Pueblo Riverwalk Floodwall Stage
UID:e.3560.369
SEQUENCE:3
DTSTAMP:20260422T095323Z
URL:https://business.pueblolatinochamber.com/events/details/the-martini-shot-369
END:VEVENT

END:VCALENDAR
