BEGIN:VCALENDAR
VERSION:2.0
PRODID:-//ChamberMaster//Event Calendar 2.0//EN
METHOD:PUBLISH
X-PUBLISHED-TTL:P3D
REFRESH-INTERVAL:P3D
CALSCALE:GREGORIAN
BEGIN:VEVENT
DTSTART:20210925T180000Z
DTEND:20210926T020000Z
X-MICROSOFT-CDO-ALLDAYEVENT:FALSE
SUMMARY:ROMOBOCO Riverwalk Rail Jam
DESCRIPTION:Come check out unbelievable wakeboarding tricks and bike stunts at the Riverwalk while rocking out to the tunes of local band Playing with Fire! This will be a day to remember with out-of-this-world performances scheduled hourly throughout the day. Pick the times that work for your or spend the day down at the Riverwalk enjoying $3 boat rides and alcoholic drinks and all the performances! It starts at noon and goes to 8pm.
X-ALT-DESC;FMTTYPE=text/html:<span style="color: rgb(97\, 97\, 97)\; font-family: Montserrat\, sans-serif\; font-size: 14px\; background-color: rgb(255\, 255\, 255)\;">Come check out unbelievable wakeboarding tricks and bike stunts at the Riverwalk while rocking out to the tunes of local band Playing with Fire! This will be a day to remember with out-of-this-world performances scheduled hourly throughout the day. Pick the times that work for your or spend the day down at the Riverwalk enjoying $3 boat rides and alcoholic drinks and all the performances! It starts at noon and goes to 8pm.</span>
LOCATION:Riverwalk
UID:e.3560.389
SEQUENCE:3
DTSTAMP:20260422T114307Z
URL:https://business.pueblolatinochamber.com/events/details/romoboco-riverwalk-rail-jam-389
END:VEVENT

END:VCALENDAR
