BEGIN:VCALENDAR
VERSION:2.0
PRODID:-//ChamberMaster//Event Calendar 2.0//EN
METHOD:PUBLISH
X-PUBLISHED-TTL:P3D
REFRESH-INTERVAL:P3D
CALSCALE:GREGORIAN
BEGIN:VEVENT
DTSTART:20210828T010000Z
DTEND:20210828T023000Z
X-MICROSOFT-CDO-ALLDAYEVENT:FALSE
SUMMARY:Rhett Haney
DESCRIPTION:Riverwalk Summer Entertainment Series\n\nRhett Haney\n\nSet a reminder to come hear some music from Rhett Haney down at the Pueblo Riverwalk at the Floodwall Stage\n\nSponsored by Pueblo Toyota
X-ALT-DESC;FMTTYPE=text/html:Riverwalk Summer Entertainment Series<br />\nRhett Haney<br />\nSet a reminder to come hear some music from Rhett Haney down at the Pueblo Riverwalk at the Floodwall Stage<br />\nSponsored by Pueblo Toyota<br />\n&nbsp\;
LOCATION:
UID:e.3560.358
SEQUENCE:3
DTSTAMP:20260422T114329Z
URL:https://business.pueblolatinochamber.com/events/details/rhett-haney-358
END:VEVENT

END:VCALENDAR
