BEGIN:VCALENDAR
VERSION:2.0
PRODID:-//ChamberMaster//Event Calendar 2.0//EN
METHOD:PUBLISH
X-PUBLISHED-TTL:P3D
REFRESH-INTERVAL:P3D
CALSCALE:GREGORIAN
BEGIN:VEVENT
DTSTART:20210905T170000Z
DTEND:20210905T230000Z
X-MICROSOFT-CDO-ALLDAYEVENT:FALSE
SUMMARY:Pueblo Toyota Discount Day-$5 Boat Rides
DESCRIPTION:Don't forget to come down to the Pueblo Riverwalk for a $5 boat ride on Pueblo Toyota discount day!\n\nSponsored by Pueblo Toyota
X-ALT-DESC;FMTTYPE=text/html:<p style="box-sizing: border-box\; margin: 0px 0px 20px\; color: rgb(97\, 97\, 97)\; font-size: 14px\; line-height: 1.8\; font-family: Montserrat\, sans-serif\; background-color: rgb(255\, 255\, 255)\;">Don&rsquo\;t forget to come down to the Pueblo Riverwalk for a $5 boat ride on Pueblo Toyota discount day!</p>\n\n<p style="box-sizing: border-box\; margin: 0px 0px 20px\; color: rgb(97\, 97\, 97)\; font-size: 14px\; line-height: 1.8\; font-family: Montserrat\, sans-serif\; background-color: rgb(255\, 255\, 255)\;">Sponsored by Pueblo Toyota</p>\n
LOCATION:
UID:e.3560.368
SEQUENCE:3
DTSTAMP:20260422T115316Z
URL:https://business.pueblolatinochamber.com/events/details/pueblo-toyota-discount-day-5-boat-rides-368
END:VEVENT

END:VCALENDAR
