BEGIN:VCALENDAR
VERSION:2.0
PRODID:-//ChamberMaster//Event Calendar 2.0//EN
METHOD:PUBLISH
X-PUBLISHED-TTL:P3D
REFRESH-INTERVAL:P3D
CALSCALE:GREGORIAN
BEGIN:VEVENT
DTSTART:20210923T230000Z
DTEND:20210924T010000Z
X-MICROSOFT-CDO-ALLDAYEVENT:FALSE
SUMMARY:Pueblo Diversified Industries Carnival Community Event
DESCRIPTION:PDI Carnival Community Event\n\nJoin us for the PDI Carnival!\n\n\n\n$10.00 Entry fee will include all games. Tickets will be sold at the event for Root Beer Floats\, Cotton Candy\, Popcorn and Cake Walk.\n\n\n\nTickets are $1.00 each. All Proceeds will help pay for the rising gas prices as we continue our focus on Community Integration.
X-ALT-DESC;FMTTYPE=text/html:<span style="font-size: 16px\; line-height: 26px\; font-weight: 600\; font-family: &quot\;Open Sans&quot\;\, &quot\;Helvetica Neue&quot\;\, Helvetica\, Arial\, sans-serif\; color: rgb(46\, 54\, 63)\; margin-bottom: 5px\; display: inline-block\;">PDI Carnival Community Event</span>\n\n<div class="event-description-html" id="event_description" property="schema:description" style="color: rgb(86\, 92\, 104)\; font-family: &quot\;Helvetica Neue&quot\;\, Helvetica\, Arial\, sans-serif\; font-size: 14px\;">Join us for the PDI Carnival!<br />\n<br />\n$10.00 Entry fee will include all games. Tickets will be sold at the event for Root Beer Floats\, Cotton Candy\, Popcorn and Cake Walk.<br />\n<br />\nTickets are $1.00 each. All Proceeds will help pay for the rising gas prices as we continue our focus on Community Integration.</div>\n
LOCATION:2828 Granada Blvd.\, Pueblo\, CO. 81005
UID:e.3560.382
SEQUENCE:3
DTSTAMP:20260422T115237Z
URL:https://business.pueblolatinochamber.com/events/details/pueblo-diversified-industries-carnival-community-event-382
END:VEVENT

END:VCALENDAR
