BEGIN:VCALENDAR
VERSION:2.0
PRODID:-//ChamberMaster//Event Calendar 2.0//EN
METHOD:PUBLISH
X-PUBLISHED-TTL:P3D
REFRESH-INTERVAL:P3D
CALSCALE:GREGORIAN
BEGIN:VEVENT
DTSTART:20210901T163000Z
DTEND:20210901T190000Z
X-MICROSOFT-CDO-ALLDAYEVENT:FALSE
SUMMARY:Premier Members Credit Union Ribbon Cutting & Ice Cream Social
DESCRIPTION:Join us to help celebrate Premier Members Credit Union's merger with a ribbon cutting followed by an ice cream social.\n\nYou will have a chance to hear from the staff of Premier Members Credit Union and take a tour of the branch.
X-ALT-DESC;FMTTYPE=text/html:Join us to help celebrate Premier Members Credit Union&#39\;s merger with a ribbon cutting followed by an ice cream social.<br />\nYou will have a chance to hear from the staff of Premier Members Credit Union and take a tour of the branch.&nbsp\;
LOCATION:1825 Hood Ave\, Pueblo CO\, 81003
UID:e.3560.355
SEQUENCE:3
DTSTAMP:20260422T115701Z
URL:https://business.pueblolatinochamber.com/events/details/premier-members-credit-union-ribbon-cutting-ice-cream-social-355
END:VEVENT

END:VCALENDAR
