BEGIN:VCALENDAR
VERSION:2.0
PRODID:-//ChamberMaster//Event Calendar 2.0//EN
METHOD:PUBLISH
X-PUBLISHED-TTL:P3D
REFRESH-INTERVAL:P3D
CALSCALE:GREGORIAN
BEGIN:VEVENT
DTSTART:20220423T160000Z
DTEND:20220423T220000Z
X-MICROSOFT-CDO-ALLDAYEVENT:FALSE
SUMMARY:Personal Financial Stewardship Class (Habitat for Humanity of Pueblo)
DESCRIPTION:Habitat for Humanity of Pueblo will be hosting an impactful\, one-day\, in-person financial empowerment course to help you get financially fit towards gaining your financial independence. \n\n\n\nTo attend\, please RSVP with Pearl Atencio at pearl.atencio@hfhpueblo.org or 719-565-0745.
X-ALT-DESC;FMTTYPE=text/html:Habitat for Humanity of Pueblo will be hosting an impactful\, one-day\, in-person financial empowerment course to help you get financially fit towards gaining your financial independence.&nbsp\;<br />\n<br />\nTo attend\, please RSVP with Pearl Atencio at pearl.atencio@hfhpueblo.org or 719-565-0745.
LOCATION:Habitat for Humanity of Pueblo Restore 2313 S. Prairie Ave Pueblo\, CO 81005
UID:e.3560.503
SEQUENCE:3
DTSTAMP:20260421T085014Z
URL:https://business.pueblolatinochamber.com/events/details/personal-financial-stewardship-class-habitat-for-humanity-of-pueblo-503
END:VEVENT

END:VCALENDAR
