BEGIN:VCALENDAR
VERSION:2.0
PRODID:-//ChamberMaster//Event Calendar 2.0//EN
METHOD:PUBLISH
X-PUBLISHED-TTL:P3D
REFRESH-INTERVAL:P3D
CALSCALE:GREGORIAN
BEGIN:VEVENT
DTSTART;VALUE=DATE:20220515
DTEND;VALUE=DATE:20220516
TRANSP:TRANSPARENT
X-MICROSOFT-CDO-ALLDAYEVENT:TRUE
SUMMARY:NALC Honors Golf Tournament
DESCRIPTION:The National Association of Letter Carriers (NALC) will be holding a Golf Fund-raiser Sunday\, May\, 15\, 2022 at the Elmwood Golf Course\, 3900 Thatcher Avenue\, Pueblo. This year they are in partners with Dream Weavers of Southern Colorado.\n\n\n\nDream Weavers is a nonprofit organization that makes it possible for children with life-threatening illnesses to experience the joy of a dream come true. You too can help make dreams come true for our children by participating in the Golf Tournament.\n\n\n\nWe have created a variety of sponsorship levels for you to choose from. Please consider making a gift today in support of the special needs of our Dream Weavers children. Hole Sponsor $100 Dream Sponsor $500 Corporate Sponsor $1000 Silent Auction item $_____ Other Donation $_____\n\n\n\nRegistration is $400 for a team of 4 or $125 for individuals.\n\n\n\nPlease respond by Sunday\, May 1\, 2022 if you can be one of the above sponsors. If being a sponsor is not possible\, donations of an item or items that may be used for door prizes or the silent action are also appreciated.\n\n\n\nPlease make all checks payable to NALC and mail to\n\nPride City Branch 229\n\n1240 Lake Avenue\n\nPueblo\, CO 81004\n\nATTN: Bernie Ortiz
X-ALT-DESC;FMTTYPE=text/html:The National Association of Letter Carriers (NALC) will be holding a Golf Fund-raiser Sunday\, May\, 15\, 2022 at the Elmwood Golf Course\, 3900 Thatcher Avenue\, Pueblo. This year they are in partners with Dream Weavers of Southern Colorado.<br />\n<br />\nDream Weavers is a nonprofit organization that makes it possible for children with life-threatening illnesses to experience the joy of a dream come true. You too can help make dreams come true for our children by participating in the Golf Tournament.<br />\n<br />\nWe have created a variety of sponsorship levels for you to choose from. Please consider making a gift today in support of the special needs of our Dream Weavers children. Hole Sponsor $100 Dream Sponsor $500 Corporate Sponsor $1000 Silent Auction item $_____ Other Donation $_____<br />\n<br />\nRegistration is $400 for a team of 4 or $125 for individuals.<br />\n<br />\nPlease respond by Sunday\, May 1\, 2022 if you can be one of the above sponsors. If being a sponsor is not possible\, donations of an item or items that may be used for door prizes or the silent action are also appreciated.<br />\n<br />\nPlease make all checks payable to NALC and mail to<br />\nPride City Branch 229<br />\n1240 Lake Avenue<br />\nPueblo\, CO 81004<br />\nATTN: Bernie Ortiz
LOCATION:Elmwood Golf Course 3900 Thatcher Avenue Pueblo\, CO 81005
UID:e.3560.520
SEQUENCE:3
DTSTAMP:20260419T121834Z
URL:https://business.pueblolatinochamber.com/events/details/nalc-honors-golf-tournament-520
END:VEVENT

END:VCALENDAR
