BEGIN:VCALENDAR
VERSION:2.0
PRODID:-//ChamberMaster//Event Calendar 2.0//EN
METHOD:PUBLISH
X-PUBLISHED-TTL:P3D
REFRESH-INTERVAL:P3D
CALSCALE:GREGORIAN
BEGIN:VEVENT
DTSTART:20210822T020000Z
DTEND:20210822T043000Z
X-MICROSOFT-CDO-ALLDAYEVENT:FALSE
SUMMARY:Movie Night at the Riverwalk-Toy Story 4
DESCRIPTION:Movie Night at the Riverwalk is always a spectacular time! Bring a chair or a blanket\, maybe a little movie snack\, and enjoy Toy Story 4\, which will begin at dusk. This FREE community event is made possible by Pueblo Toyota. Movie starts at dusk\, somewhere between 8:00 and 9:00PM.\n\n*weather permitting\n\nSponsored by Pueblo Toyota
X-ALT-DESC;FMTTYPE=text/html:<p style="box-sizing: border-box\; margin: 0px 0px 20px\; color: rgb(97\, 97\, 97)\; font-size: 14px\; line-height: 1.8\; font-family: Montserrat\, sans-serif\; background-color: rgb(255\, 255\, 255)\;">Movie Night at the Riverwalk is always a spectacular time! Bring a chair or a blanket\, maybe a little movie snack\, and enjoy Toy Story 4\, which will begin at dusk. This FREE community event is made possible by Pueblo Toyota. Movie starts at dusk\, somewhere between 8:00 and 9:00PM.</p>\n\n<p style="box-sizing: border-box\; margin: 0px 0px 20px\; color: rgb(97\, 97\, 97)\; font-size: 14px\; line-height: 1.8\; font-family: Montserrat\, sans-serif\; background-color: rgb(255\, 255\, 255)\;">*weather permitting</p>\n\n<p style="box-sizing: border-box\; margin: 0px 0px 20px\; color: rgb(97\, 97\, 97)\; font-size: 14px\; line-height: 1.8\; font-family: Montserrat\, sans-serif\; background-color: rgb(255\, 255\, 255)\;">Sponsored by Pueblo Toyota</p>\n
LOCATION:
UID:e.3560.367
SEQUENCE:3
DTSTAMP:20260422T115826Z
URL:https://business.pueblolatinochamber.com/events/details/movie-night-at-the-riverwalk-toy-story-4-367
END:VEVENT

END:VCALENDAR
