BEGIN:VCALENDAR
VERSION:2.0
PRODID:-//ChamberMaster//Event Calendar 2.0//EN
METHOD:PUBLISH
X-PUBLISHED-TTL:P3D
REFRESH-INTERVAL:P3D
CALSCALE:GREGORIAN
BEGIN:VEVENT
DTSTART:20210819T160000Z
DTEND:20210819T170000Z
X-MICROSOFT-CDO-ALLDAYEVENT:FALSE
SUMMARY:Grow with Google Webinar
DESCRIPTION:Reach Customers Online\n\nPresented by Pamela Starr-Professional Trainer\, Grow with Google
X-ALT-DESC;FMTTYPE=text/html:Reach Customers Online<br />\nPresented by Pamela Starr-Professional Trainer\, Grow with Google
LOCATION:
UID:e.3560.357
SEQUENCE:3
DTSTAMP:20260422T114415Z
URL:https://business.pueblolatinochamber.com/events/details/grow-with-google-webinar-357
END:VEVENT

END:VCALENDAR
