BEGIN:VCALENDAR
VERSION:2.0
PRODID:-//ChamberMaster//Event Calendar 2.0//EN
METHOD:PUBLISH
X-PUBLISHED-TTL:P3D
REFRESH-INTERVAL:P3D
CALSCALE:GREGORIAN
BEGIN:VEVENT
DTSTART:20220507T013000Z
DTEND:20220523T040000Z
X-MICROSOFT-CDO-ALLDAYEVENT:FALSE
SUMMARY:God of Carnage
DESCRIPTION:
X-ALT-DESC;FMTTYPE=text/html:
LOCATION:Steel City Theatre Company 241 S Santa Fe Ave
UID:e.3560.372
SEQUENCE:3
DTSTAMP:20260419T122635Z
URL:https://business.pueblolatinochamber.com/events/details/god-of-carnage-372
END:VEVENT

END:VCALENDAR
