BEGIN:VCALENDAR
VERSION:2.0
PRODID:-//ChamberMaster//Event Calendar 2.0//EN
METHOD:PUBLISH
X-PUBLISHED-TTL:P3D
REFRESH-INTERVAL:P3D
CALSCALE:GREGORIAN
BEGIN:VEVENT
DTSTART:20210918T190000Z
DTEND:20210918T210000Z
X-MICROSOFT-CDO-ALLDAYEVENT:FALSE
SUMMARY:Girl Scouts Sign Up Day
DESCRIPTION:Join us for Girl Scout sign up day! This FREE event is open to current members and those curious about joining Girl Scouts. Learn about all the amazing things Girl Scouts has to offer while you earn a patch doing hands-on activities! You can find out what's new in Girl Scouting\, meet Girl Scouts from your area and kick off an amazing Girl Scout year!\n\nThere will be knot tying\, giveaways\, activies\, games and more! Come hang out! This is not a drop-off event\, please plan to stay for the fun!\n\nSee you at El Peublo History Museum on September 18th!\n\nCheck in begins at 1pm. Activities begins at 1:30 pm and will end by 3 p.m.
X-ALT-DESC;FMTTYPE=text/html:<p style="margin: 0px\; color: rgb(86\, 92\, 104)\; font-family: &quot\;Helvetica Neue&quot\;\, Helvetica\, Arial\, sans-serif\; font-size: 14px\; background-color: rgb(255\, 255\, 255)\;">Join us for Girl Scout sign up day! This FREE event is open to current members and those curious about joining Girl Scouts. Learn about all the amazing things Girl Scouts has to offer while you earn a patch doing hands-on activities! You can find out what&rsquo\;s new in Girl Scouting\, meet Girl Scouts from your area and kick off an amazing Girl Scout year!</p>\n\n<p style="margin: 0px\; color: rgb(86\, 92\, 104)\; font-family: &quot\;Helvetica Neue&quot\;\, Helvetica\, Arial\, sans-serif\; font-size: 14px\; background-color: rgb(255\, 255\, 255)\;">There will be knot tying\, giveaways\, activies\, games and more! Come hang out! This is not a drop-off event\, please plan to stay for the fun!</p>\n\n<p style="margin: 0px\; color: rgb(86\, 92\, 104)\; font-family: &quot\;Helvetica Neue&quot\;\, Helvetica\, Arial\, sans-serif\; font-size: 14px\; background-color: rgb(255\, 255\, 255)\;">See you at El Peublo History Museum on September 18th!</p>\n\n<p style="margin: 0px\; color: rgb(86\, 92\, 104)\; font-family: &quot\;Helvetica Neue&quot\;\, Helvetica\, Arial\, sans-serif\; font-size: 14px\; background-color: rgb(255\, 255\, 255)\;">Check in begins at 1pm. Activities begins at 1:30 pm and will end by 3 p.m.</p>\n
LOCATION:El Pueblo History Museum\, 301 North Union Avenue\, Pueblo\, CO 81003
UID:e.3560.381
SEQUENCE:3
DTSTAMP:20260422T115109Z
URL:https://business.pueblolatinochamber.com/events/details/girl-scouts-sign-up-day-381
END:VEVENT

END:VCALENDAR
