BEGIN:VCALENDAR
VERSION:2.0
PRODID:-//ChamberMaster//Event Calendar 2.0//EN
METHOD:PUBLISH
X-PUBLISHED-TTL:P3D
REFRESH-INTERVAL:P3D
CALSCALE:GREGORIAN
BEGIN:VEVENT
DTSTART:20260624T200000Z
DTEND:20260624T230000Z
X-MICROSOFT-CDO-ALLDAYEVENT:FALSE
SUMMARY:Elevating Leadership Development | Pueblo Board Governance Training
DESCRIPTION:Applications are open for El Pomar's Pueblo Board Governance Training on June 24. Facilitated by Kimberley Sherwood\, this training equips participants with the foundational knowledge and skills needed to confidently serve on boards and commissions. There is no cost to attend.\n\nApplications must be completed by June 1 to be considered: 2026 ELD Pueblo Board Governance Training Application   Fill out form
X-ALT-DESC;FMTTYPE=text/html:<p>Applications are open for El Pomar&rsquo\;s Pueblo Board Governance Training on June 24. Facilitated by Kimberley Sherwood\, this training equips participants with the foundational knowledge and skills needed to confidently serve on boards and commissions. There is no cost to attend.</p>\n\n<p>Applications must be completed by June 1 to be considered:&nbsp\;<a href="https://forms.office.com/Pages/ResponsePage.aspx?id=EvX-n6UPfECzcM5oDceOJiNGestNElJCunO4U9a0rBRUMkc1RDJYTVJQTVBOQllROUgwREhNSUlGNiQlQCN0PWcu">2026 ELD Pueblo Board Governance Training Application &ndash\; Fill out form</a></p>\n
LOCATION:Sangre De Cristo Arts & Conference Center 210 N. Santa Fe Ave Pueblo\, CO 81003
UID:e.3560.1081
SEQUENCE:3
DTSTAMP:20260425T110235Z
URL:https://business.pueblolatinochamber.com/events/details/elevating-leadership-development-pueblo-board-governance-training-1081
END:VEVENT

END:VCALENDAR
