BEGIN:VCALENDAR
VERSION:2.0
PRODID:-//ChamberMaster//Event Calendar 2.0//EN
METHOD:PUBLISH
X-PUBLISHED-TTL:P3D
REFRESH-INTERVAL:P3D
CALSCALE:GREGORIAN
BEGIN:VEVENT
DTSTART:20220409T160000Z
DTEND:20220409T180000Z
X-MICROSOFT-CDO-ALLDAYEVENT:FALSE
SUMMARY:Dream Weavers 2022 Easter Egg Hunt
DESCRIPTION:Dream Weavers Invites you to the 2022 EASTER EGG HUNT! There will will be goodie bags\, egg baskets\, and eggs provided.
X-ALT-DESC;FMTTYPE=text/html:Dream Weavers Invites you to the 2022 EASTER EGG HUNT! There will will be goodie bags\, egg baskets\, and eggs provided.
LOCATION:City Park Pavilion (by the Zoo)
UID:e.3560.521
SEQUENCE:3
DTSTAMP:20260419T125229Z
URL:https://business.pueblolatinochamber.com/events/details/dream-weavers-2022-easter-egg-hunt-521
END:VEVENT

END:VCALENDAR
