BEGIN:VCALENDAR
VERSION:2.0
PRODID:-//ChamberMaster//Event Calendar 2.0//EN
METHOD:PUBLISH
X-PUBLISHED-TTL:P3D
REFRESH-INTERVAL:P3D
CALSCALE:GREGORIAN
BEGIN:VEVENT
DTSTART:20210820T233000Z
DTEND:20210821T013000Z
X-MICROSOFT-CDO-ALLDAYEVENT:FALSE
SUMMARY:CSU-Pueblo Discover Downtown
DESCRIPTION:Organized by Colorado State University-Pueblo\, the event serves as a welcome to incoming students. The open event features free boat rides for incoming students and their families\, vendors along the Riverwalk pathway\, discounts to local restaurants\, and a performance from the marching band.\n\nIf you are at the Riverwalk on Friday\, August 20th\, you can expect to see several CSU-P students along with their families
X-ALT-DESC;FMTTYPE=text/html:<p style="box-sizing: border-box\; margin: 0px 0px 20px\; color: rgb(97\, 97\, 97)\; font-size: 14px\; line-height: 1.8\; font-family: Montserrat\, sans-serif\; background-color: rgb(255\, 255\, 255)\;">Organized by Colorado State University-Pueblo\, the event serves as a welcome to incoming students. The open event features free boat rides for incoming students and their families\, vendors along the Riverwalk pathway\, discounts to local restaurants\, and a performance from the marching band.</p>\n\n<p style="box-sizing: border-box\; margin: 0px 0px 20px\; color: rgb(97\, 97\, 97)\; font-size: 14px\; line-height: 1.8\; font-family: Montserrat\, sans-serif\; background-color: rgb(255\, 255\, 255)\;">If you are at the Riverwalk on Friday\, August 20th\, you can expect to see several CSU-P students along with their families</p>\n
LOCATION:Riverwalk Pathway East Riverwalk\, Pueblo\, CO. 81003
UID:e.3560.366
SEQUENCE:3
DTSTAMP:20260422T114607Z
URL:https://business.pueblolatinochamber.com/events/details/csu-pueblo-discover-downtown-366
END:VEVENT

END:VCALENDAR
