BEGIN:VCALENDAR
VERSION:2.0
PRODID:-//ChamberMaster//Event Calendar 2.0//EN
METHOD:PUBLISH
X-PUBLISHED-TTL:P3D
REFRESH-INTERVAL:P3D
CALSCALE:GREGORIAN
BEGIN:VEVENT
DTSTART:20210912T170000Z
DTEND:20210912T230000Z
X-MICROSOFT-CDO-ALLDAYEVENT:FALSE
SUMMARY:CSU-Pueblo Discount Day-$5 Boat Rides
DESCRIPTION:Enjoy a $5 boat ride on CSU Pueblo discount day!\n\nSponsored by CSU Pueblo
X-ALT-DESC;FMTTYPE=text/html:<p style="box-sizing: border-box\; margin: 0px 0px 20px\; color: rgb(97\, 97\, 97)\; font-size: 14px\; line-height: 1.8\; font-family: Montserrat\, sans-serif\; background-color: rgb(255\, 255\, 255)\;">Enjoy a $5 boat ride on CSU Pueblo discount day!</p>\n\n<p style="box-sizing: border-box\; margin: 0px 0px 20px\; color: rgb(97\, 97\, 97)\; font-size: 14px\; line-height: 1.8\; font-family: Montserrat\, sans-serif\; background-color: rgb(255\, 255\, 255)\;">Sponsored by CSU Pueblo</p>\n
LOCATION:
UID:e.3560.370
SEQUENCE:3
DTSTAMP:20260422T115058Z
URL:https://business.pueblolatinochamber.com/events/details/csu-pueblo-discount-day-5-boat-rides-370
END:VEVENT

END:VCALENDAR
