BEGIN:VCALENDAR
VERSION:2.0
PRODID:-//ChamberMaster//Event Calendar 2.0//EN
METHOD:PUBLISH
X-PUBLISHED-TTL:P3D
REFRESH-INTERVAL:P3D
CALSCALE:GREGORIAN
BEGIN:VEVENT
DTSTART:20220423T230000Z
DTEND:20220424T040000Z
X-MICROSOFT-CDO-ALLDAYEVENT:FALSE
SUMMARY:Casa of Pueblo 20th Anniversary Gala
DESCRIPTION:20th Anniversary Gala \n\nLights\, Camera\, Action! We're excited to announce that CASA of Pueblo will celebrate 20 successful years of serving children with a 20th Anniversary Gala\, a "Star Celebration\," on Saturday\, April 23\, 2022. CASA of Pueblo is the only Colorado CASA to operate three programs with the unique purpose to train volunteers to serve as a voice for the more than 400 abused and neglected youth appearing in Dependency and Neglect court cases in 8 Southern Colorado counties. Our anniversary gala\, held just every five years\, is a much-anticipated milestone evening that serves a dual purpose of honoring our volunteers and partners\, while also raising funds to support our work to help court-appointed youth find a safe and permanent home   as quickly as possible! This year's event will be held in 'Old Hollywood' style\, and is expected to draw more than 400 community leaders to support our "star" CASA volunteers and supporting "cast members\," like you!
X-ALT-DESC;FMTTYPE=text/html:<strong>20th Anniversary Gala&nbsp\;</strong><br />\nLights\, Camera\, Action! We&rsquo\;re excited to announce that CASA of Pueblo will celebrate 20 successful years of serving children with a 20th Anniversary Gala\, a &ldquo\;Star Celebration\,&rdquo\; on Saturday\, April 23\, 2022. CASA of Pueblo is the only Colorado CASA to operate three programs with the unique purpose to train volunteers to serve as a voice for the more than 400 abused and neglected youth appearing in Dependency and Neglect court cases in 8 Southern Colorado counties. Our anniversary gala\, held just every five years\, is a much-anticipated milestone evening that serves a dual purpose of honoring our volunteers and partners\, while also raising funds to support our work to help court-appointed youth find a safe and permanent home &ndash\; as quickly as possible! This year&rsquo\;s event will be held in &lsquo\;Old Hollywood&rsquo\; style\, and is expected to draw more than 400 community leaders to support our &ldquo\;star&rdquo\; CASA volunteers and supporting &ldquo\;cast members\,&rdquo\; like you!&nbsp\;
LOCATION:CSU-Pueblo Occhiato Ballroom 2200 Bonforte Blvd Pueblo\, CO 81001
UID:e.3560.509
SEQUENCE:3
DTSTAMP:20260423T090548Z
URL:https://business.pueblolatinochamber.com/events/details/casa-of-pueblo-20th-anniversary-gala-509
END:VEVENT

END:VCALENDAR
