BEGIN:VCALENDAR
VERSION:2.0
PRODID:-//ChamberMaster//Event Calendar 2.0//EN
METHOD:PUBLISH
X-PUBLISHED-TTL:P3D
REFRESH-INTERVAL:P3D
CALSCALE:GREGORIAN
BEGIN:VEVENT
DTSTART:20210911T230000Z
DTEND:20210912T023000Z
X-MICROSOFT-CDO-ALLDAYEVENT:FALSE
SUMMARY:12th Annual Gil A. Padilla Memorial Glow-Golf Tournament
DESCRIPTION:For more information visit www.bgcpckids.org/gaptournament
X-ALT-DESC;FMTTYPE=text/html:For more information visit www.bgcpckids.org/gaptournament&nbsp\;
LOCATION:Elmwood Golf Course 3900 Thatcher Ave.\, Pueblo\, CO. 81005
UID:e.3560.359
SEQUENCE:3
DTSTAMP:20260422T115020Z
URL:https://business.pueblolatinochamber.com/events/details/12th-annual-gil-a-padilla-memorial-glow-golf-tournament-359
END:VEVENT

END:VCALENDAR
